BEGIN:VCALENDAR
VERSION:2.0
PRODID:-//Oberrieden an der Werra - ECPv6.15.20//NONSGML v1.0//EN
CALSCALE:GREGORIAN
METHOD:PUBLISH
X-ORIGINAL-URL:https://oberrieden.ovh
X-WR-CALDESC:Veranstaltungen für Oberrieden an der Werra
REFRESH-INTERVAL;VALUE=DURATION:PT1H
X-Robots-Tag:noindex
X-PUBLISHED-TTL:PT1H
BEGIN:VTIMEZONE
TZID:Europe/Berlin
BEGIN:DAYLIGHT
TZOFFSETFROM:+0100
TZOFFSETTO:+0200
TZNAME:CEST
DTSTART:20250330T010000
END:DAYLIGHT
BEGIN:STANDARD
TZOFFSETFROM:+0200
TZOFFSETTO:+0100
TZNAME:CET
DTSTART:20251026T010000
END:STANDARD
BEGIN:DAYLIGHT
TZOFFSETFROM:+0100
TZOFFSETTO:+0200
TZNAME:CEST
DTSTART:20260329T010000
END:DAYLIGHT
BEGIN:STANDARD
TZOFFSETFROM:+0200
TZOFFSETTO:+0100
TZNAME:CET
DTSTART:20261025T010000
END:STANDARD
BEGIN:DAYLIGHT
TZOFFSETFROM:+0100
TZOFFSETTO:+0200
TZNAME:CEST
DTSTART:20270328T010000
END:DAYLIGHT
BEGIN:STANDARD
TZOFFSETFROM:+0200
TZOFFSETTO:+0100
TZNAME:CET
DTSTART:20271031T010000
END:STANDARD
BEGIN:DAYLIGHT
TZOFFSETFROM:+0100
TZOFFSETTO:+0200
TZNAME:CEST
DTSTART:20280326T010000
END:DAYLIGHT
BEGIN:STANDARD
TZOFFSETFROM:+0200
TZOFFSETTO:+0100
TZNAME:CET
DTSTART:20281029T010000
END:STANDARD
END:VTIMEZONE
BEGIN:VEVENT
DTSTART;TZID=Europe/Berlin:20260505T150000
DTEND;TZID=Europe/Berlin:20260505T170000
DTSTAMP:20260422T161346
CREATED:20260416T084812Z
LAST-MODIFIED:20260416T084814Z
UID:954-1777993200-1778000400@oberrieden.ovh
SUMMARY:Café O
DESCRIPTION:Kaffee und Kuchen genießen bei guter Unterhaltung. \n\n\n\nDer Treffpunkt für alle Generationen im Dorfgemeinschaftshaus in der Jahnstraße
URL:https://oberrieden.ovh/veranstaltungen/cafe-o-10/
LOCATION:Jahnstraße 2\, 37242 Bad Sooden-Allendorf\, Jahnstraße 2\, Bad Sooden-Allendorf\, 37242\, Germany
CATEGORIES:Kirche
END:VEVENT
BEGIN:VEVENT
DTSTART;TZID=Europe/Berlin:20260613T120000
DTEND;TZID=Europe/Berlin:20260614T180000
DTSTAMP:20260422T161346
CREATED:20251028T082659Z
LAST-MODIFIED:20251028T084914Z
UID:788-1781352000-1781460000@oberrieden.ovh
SUMMARY:Dorffest
DESCRIPTION:Der Kirmesverein lädt herzlich ein zum Dorffest auf dem Sportplatz!
URL:https://oberrieden.ovh/veranstaltungen/dorffest/
END:VEVENT
BEGIN:VEVENT
DTSTART;TZID=Europe/Berlin:20260926T090000
DTEND;TZID=Europe/Berlin:20260926T180000
DTSTAMP:20260422T161346
CREATED:20251028T084059Z
LAST-MODIFIED:20251028T084455Z
UID:793-1790413200-1790445600@oberrieden.ovh
SUMMARY:Boßeln
DESCRIPTION:Der Kirmesverein lädt herzlich zum ersten Boßeln am 26. September 2026 ein! \n\n\n\nAlle\, die Lust auf Spaß\, Bewegung und gute Laune haben\, sind herzlich willkommen.Wer nicht weiß\, was Boßeln ist – einfach den QR-Code scannen oder hier klicken und mehr erfahren! 😉 \n\n\n\n📍 Start und Ziel: Sportplatz🍻 Für das leibliche Wohl ist gesorgt!
URL:https://oberrieden.ovh/veranstaltungen/bosseln/
END:VEVENT
BEGIN:VEVENT
DTSTART;TZID=Europe/Berlin:20270611T000000
DTEND;TZID=Europe/Berlin:20270614T235959
DTSTAMP:20260422T161346
CREATED:20250829T081025Z
LAST-MODIFIED:20250829T081026Z
UID:743-1812672000-1813017599@oberrieden.ovh
SUMMARY:Kirmes Oberrieden
DESCRIPTION:
URL:https://oberrieden.ovh/veranstaltungen/kirmes-oberrieden/
END:VEVENT
END:VCALENDAR