BEGIN:VCALENDAR
VERSION:2.0
PRODID:-//Oberrieden an der Werra - ECPv6.15.20//NONSGML v1.0//EN
CALSCALE:GREGORIAN
METHOD:PUBLISH
X-ORIGINAL-URL:https://oberrieden.ovh
X-WR-CALDESC:Veranstaltungen für Oberrieden an der Werra
REFRESH-INTERVAL;VALUE=DURATION:PT1H
X-Robots-Tag:noindex
X-PUBLISHED-TTL:PT1H
BEGIN:VTIMEZONE
TZID:Europe/Berlin
BEGIN:DAYLIGHT
TZOFFSETFROM:+0100
TZOFFSETTO:+0200
TZNAME:CEST
DTSTART:20240331T010000
END:DAYLIGHT
BEGIN:STANDARD
TZOFFSETFROM:+0200
TZOFFSETTO:+0100
TZNAME:CET
DTSTART:20241027T010000
END:STANDARD
BEGIN:DAYLIGHT
TZOFFSETFROM:+0100
TZOFFSETTO:+0200
TZNAME:CEST
DTSTART:20250330T010000
END:DAYLIGHT
BEGIN:STANDARD
TZOFFSETFROM:+0200
TZOFFSETTO:+0100
TZNAME:CET
DTSTART:20251026T010000
END:STANDARD
BEGIN:DAYLIGHT
TZOFFSETFROM:+0100
TZOFFSETTO:+0200
TZNAME:CEST
DTSTART:20260329T010000
END:DAYLIGHT
BEGIN:STANDARD
TZOFFSETFROM:+0200
TZOFFSETTO:+0100
TZNAME:CET
DTSTART:20261025T010000
END:STANDARD
END:VTIMEZONE
BEGIN:VEVENT
DTSTART;TZID=Europe/Berlin:20251224T150000
DTEND;TZID=Europe/Berlin:20251224T170000
DTSTAMP:20260423T011348
CREATED:20251218T091252Z
LAST-MODIFIED:20251218T091253Z
UID:813-1766588400-1766595600@oberrieden.ovh
SUMMARY:Heiligabend-Gottesdienst mit Krippenspiel
DESCRIPTION:
URL:https://oberrieden.ovh/veranstaltungen/heiligabend-gottesdienst-mit-krippenspiel/
CATEGORIES:Kirche
END:VEVENT
BEGIN:VEVENT
DTSTART;TZID=Europe/Berlin:20251226T100000
DTEND;TZID=Europe/Berlin:20251226T113000
DTSTAMP:20260423T011348
CREATED:20251218T091638Z
LAST-MODIFIED:20251218T091639Z
UID:815-1766743200-1766748600@oberrieden.ovh
SUMMARY:Musikalischer Gottesdienst mit Abendmahl
DESCRIPTION:Klassische Musik (Bratsche) gespielt von Hanna-Maria Bormuth
URL:https://oberrieden.ovh/veranstaltungen/musikalischer-gottesdienst-mit-abendmahl/
END:VEVENT
END:VCALENDAR