BEGIN:VCALENDAR
VERSION:2.0
PRODID:-//Oberrieden an der Werra - ECPv6.15.20//NONSGML v1.0//EN
CALSCALE:GREGORIAN
METHOD:PUBLISH
X-WR-CALNAME:Oberrieden an der Werra
X-ORIGINAL-URL:https://oberrieden.ovh
X-WR-CALDESC:Veranstaltungen für Oberrieden an der Werra
REFRESH-INTERVAL;VALUE=DURATION:PT1H
X-Robots-Tag:noindex
X-PUBLISHED-TTL:PT1H
BEGIN:VTIMEZONE
TZID:Europe/Berlin
BEGIN:DAYLIGHT
TZOFFSETFROM:+0100
TZOFFSETTO:+0200
TZNAME:CEST
DTSTART:20250330T010000
END:DAYLIGHT
BEGIN:STANDARD
TZOFFSETFROM:+0200
TZOFFSETTO:+0100
TZNAME:CET
DTSTART:20251026T010000
END:STANDARD
BEGIN:DAYLIGHT
TZOFFSETFROM:+0100
TZOFFSETTO:+0200
TZNAME:CEST
DTSTART:20260329T010000
END:DAYLIGHT
BEGIN:STANDARD
TZOFFSETFROM:+0200
TZOFFSETTO:+0100
TZNAME:CET
DTSTART:20261025T010000
END:STANDARD
BEGIN:DAYLIGHT
TZOFFSETFROM:+0100
TZOFFSETTO:+0200
TZNAME:CEST
DTSTART:20270328T010000
END:DAYLIGHT
BEGIN:STANDARD
TZOFFSETFROM:+0200
TZOFFSETTO:+0100
TZNAME:CET
DTSTART:20271031T010000
END:STANDARD
END:VTIMEZONE
BEGIN:VEVENT
DTSTART;TZID=Europe/Berlin:20260303T150000
DTEND;TZID=Europe/Berlin:20260303T170000
DTSTAMP:20260422T195152
CREATED:20260219T115904Z
LAST-MODIFIED:20260219T115905Z
UID:844-1772550000-1772557200@oberrieden.ovh
SUMMARY:Café O
DESCRIPTION:Kaffee und Kuchen genießen bei guter Unterhaltung. \n\n\n\nDer Treffpunkt für alle Generationen im Dorfgemeinschaftshaus in der Jahnstraße.
URL:https://oberrieden.ovh/veranstaltungen/cafe-o-9/
LOCATION:Jahnstraße 2\, 37242 Bad Sooden-Allendorf\, Jahnstraße 2\, Bad Sooden-Allendorf\, 37242\, Germany
END:VEVENT
END:VCALENDAR